BEGIN:VCALENDAR
VERSION:2.0
PRODID:-//eventon.com NONSGML v1.0//EN
CALSCALE:GREGORIAN
METHOD:PUBLISH
BEGIN:VEVENT
UID:69e80580db9f6
DTSTAMP:20260421T231720Z
DTSTART:20260221T103000Z
DTEND:20260221T180000Z
LOCATION:Taj Yeshwantpur\,  Bengaluru 2275\,  Tumkur Rd\,  Yeshwanthpur Industrial Area\,  Phase 1\,  Yeswanthpur\,  Bengaluru\,  Karnataka 560022
SUMMARY:NITKonnect 2026
DESCRIPTION:NITKonnect 2026\,  held at Taj Yeshwantpur\,  once again brough
 t together innovation\,  collaboration\,  and meaningful networking among N
 ITK graduates and students. BHIVE proudly sponsored the event\,  curating a
 n engaging experience zone that highlighted our offerings and opened doors 
 for potential partnerships and collaborations. Our CEO &amp; Founder\,  She
 sh Rao Paplikar\,  a[..]\nhttps://bhiveworkspace.com/events/nitkonnect-2026
 /
URL:https://bhiveworkspace.com/events/nitkonnect-2026/
END:VEVENT
END:VCALENDAR