BEGIN:VCALENDAR
VERSION:2.0
PRODID:-//eventon.com NONSGML v1.0//EN
CALSCALE:GREGORIAN
METHOD:PUBLISH
BEGIN:VEVENT
UID:69e61490a0134
DTSTAMP:20260420T115704Z
DTSTART:20260104T103000Z
DTEND:20260106T180000Z
LOCATION:JECC Jaipur (Jaipur Exhibition &amp; Convention Centre RIICO Industrial Area\,  Sitapura\,  Sanganer) RIICO Industrial Area\,  Sitapura\,  Sanganer\,  Jaipur\,  Rajasthan 302022
SUMMARY:10th TiE Global Summit Hosted by TiE Rajasthan
DESCRIPTION:A slice of BHIVE came alive at the 10th edition of the TiE Glob
 al Summit in Jaipur.Our Experience Centre offered a glimpse into how modern
  teams work and connect—featuring thoughtfully designed discussion pods\,
   phone booths\,  and a relaxed lounge area. A space built for meaningful c
 onversations\,  quick calls\,  and moments[..]\nhttps://bhiveworkspace.com/
 events/10th-tie-global-summit-hosted-by-tie-rajasthan/
URL:https://bhiveworkspace.com/events/10th-tie-global-summit-hosted-by-tie-rajasthan/
END:VEVENT
END:VCALENDAR