BEGIN:VCALENDAR
VERSION:2.0
PRODID:-//eventon.com NONSGML v1.0//EN
CALSCALE:GREGORIAN
METHOD:PUBLISH
BEGIN:VEVENT
UID:69e66d1f739e7
DTSTAMP:20260420T181455Z
DTSTART:20250623T183000Z
DTEND:20250623T210000Z
LOCATION:BHIVE Platinum Church Street Campus 48\,  Church St\,  Haridevpur\,  Shanthala Nagar\,  Ashok Nagar\,  Bengaluru\,  Karnataka 560001
SUMMARY:International Yoga Day 2025
DESCRIPTION:&#8220;The International Yoga Day celebration across all four B
 HIVE centres was an energising and refreshing experience for our members. T
 he evening began with an instructor-led yoga session that set a calm and fo
 cused tone\,  followed by our Positive Thought Wall a space where members s
 hared uplifting messages and positive affirmations.[..]\nhttps://bhiveworks
 pace.com/events/international-yoga-day-2025/
URL:https://bhiveworkspace.com/events/international-yoga-day-2025/
END:VEVENT
END:VCALENDAR