BEGIN:VCALENDAR
VERSION:2.0
PRODID:-//eventon.com NONSGML v1.0//EN
CALSCALE:GREGORIAN
METHOD:PUBLISH
BEGIN:VEVENT
UID:69e65f90e8572
DTSTAMP:20260420T171704Z
DTSTART:20241129T173000Z
DTEND:20241129T200000Z
LOCATION:BHIVE Platinum Church Street Campus 48\,  Church St\,  Haridevpur\,  Shanthala Nagar\,  Ashok Nagar\,  Bengaluru\,  Karnataka 560001
SUMMARY:BHIVE Annual Day 2024- Singing and Dancing Competition
DESCRIPTION:The Singing and Dancing Competition at BHIVE Annual Day was an 
 outstanding showcase of talent and creativity. With unforgettable performan
 ces and boundless energy\,  it became the highlight of the celebration! The
  stage came alive with passion and enthusiasm\,  leaving the audience cheer
 ing for more. It was not just an event—it[..]\nhttps://bhiveworkspace.com
 /events/singing-and-dancing-competition-bhive-annual-day-2024/
URL:https://bhiveworkspace.com/events/singing-and-dancing-competition-bhive-annual-day-2024/
END:VEVENT
END:VCALENDAR