BEGIN:VCALENDAR
VERSION:2.0
PRODID:-//eventon.com NONSGML v1.0//EN
CALSCALE:GREGORIAN
METHOD:PUBLISH
BEGIN:VEVENT
UID:69e4c90d9a6b2
DTSTAMP:20260419T122237Z
DTSTART:20240214T103000Z
DTEND:20240214T140000Z
LOCATION:BHIVE Platinum Church Street Campus 48\,  Church St\,  Haridevpur\,  Shanthala Nagar\,  Ashok Nagar\,  Bengaluru\,  Karnataka 560001
SUMMARY:Leadership Talk Series - 2nd batch
DESCRIPTION:Hosted the 2nd batch of MBA students and professionals from WHU
  – Otto Beisheim School of Management\,  Germany\,  at BHIVE Platinum Chu
 rch Street Campus as a part of the esteemed &#8220;Leadership Talk Series&#
 8221; organized by Indian Institute of Management Bangalore. \nhttps://bhi
 veworkspace.com/events/leadership-talk-series-2nd-batch/
URL:https://bhiveworkspace.com/events/leadership-talk-series-2nd-batch/
END:VEVENT
END:VCALENDAR