BEGIN:VCALENDAR
VERSION:2.0
PRODID:-//eventon.com NONSGML v1.0//EN
CALSCALE:GREGORIAN
METHOD:PUBLISH
BEGIN:VEVENT
UID:69e5e019c80f9
DTSTAMP:20260420T081313Z
DTSTART:20230415T123000Z
DTEND:20230415T180000Z
LOCATION:BHIVE Premium Whitefield Campus &amp; Convention Centre JBR Tech Park\,  KIADB Export Promotion Industrial Area\,  Whitefield\,  Bengaluru\,  Karnataka 560066
SUMMARY:BHIVE Whitefield campus Launch
DESCRIPTION:Launch of our our newest coworking space located just 300 meter
 s away from Sri Sathya Sai Hospital Metro Station in Whitefield.  With spa
 ce for over 5000 professionals\,  elevate your business with an enriching c
 oworking experience. Discover modern architecture\,  cutting-edge technolog
 y\,  and fully equipped amenities to support your productivity and success.
 \nhttps://bhiveworkspace.com/events/bhive-whitefield-campus-launch/
URL:https://bhiveworkspace.com/events/bhive-whitefield-campus-launch/
END:VEVENT
END:VCALENDAR