BEGIN:VCALENDAR
VERSION:2.0
PRODID:-//eventon.com NONSGML v1.0//EN
CALSCALE:GREGORIAN
METHOD:PUBLISH
BEGIN:VEVENT
UID:69e8024216efd
DTSTAMP:20260421T230330Z
DTSTART:20230916T123000Z
DTEND:20230916T180000Z
LOCATION:BHIVE Platinum Church Street Campus 48\,  Church St\,  Haridevpur\,  Shanthala Nagar\,  Ashok Nagar\,  Bengaluru\,  Karnataka 560001
SUMMARY:ZORBA 2023 by BHIVE
DESCRIPTION:An extraordinary night at Zorba By BHIVE 2023\,  celebrated the
  grand launch of BHIVE Platinum Church Street Campus with a spectacular fas
 hion show by renowned designers Rajesh Shetty and Nags\,  &amp; The stage w
 as lit up with the presence of the stunning and gorgeous Neha Dhupia\,  phe
 nomenal pixel art by[..]\nhttps://bhiveworkspace.com/events/zorba-2023-by-b
 hive/
URL:https://bhiveworkspace.com/events/zorba-2023-by-bhive/
END:VEVENT
END:VCALENDAR