BEGIN:VCALENDAR
VERSION:2.0
PRODID:-//eventon.com NONSGML v1.0//EN
CALSCALE:GREGORIAN
METHOD:PUBLISH
BEGIN:VEVENT
UID:69e8f41506b90
DTSTAMP:20260422T161517Z
DTSTART:20221010T113000Z
DTEND:20221010T163000Z
LOCATION:BHIVE Workspace MG Road (Near Trinity Metro Station) BHIVE MG Road\,  Mahalakshmi Chambers\,  29\,  MG Road Next to Trinity Metro Station\,  opp. Kotak Bank\,  Bengaluru\,  Karnataka 560001
SUMMARY:Bangalore Roadshow - XR Startup Program
DESCRIPTION:An event focused on XR (AR/VR).This was a joint event of CIE + 
 Meta + Meity Startup Hub + Headstart.\nhttps://bhiveworkspace.com/events/ba
 ngalore-roadshow-xr-startup-program/
URL:https://bhiveworkspace.com/events/bangalore-roadshow-xr-startup-program/
END:VEVENT
END:VCALENDAR