BEGIN:VCALENDAR
VERSION:2.0
PRODID:-//eventon.com NONSGML v1.0//EN
CALSCALE:GREGORIAN
METHOD:PUBLISH
BEGIN:VEVENT
UID:69e65842e7ba1
DTSTAMP:20260420T164554Z
DTSTART:20220925T113000Z
DTEND:20220925T163000Z
LOCATION:BHIVE Premium HSR Campus B-Block\,  BHIVE Workspace - No.112\,  AKR Tech Park\,  "A" and\,  7th Mile Hosur Rd\,  Krishna Reddy Industrial Area\,  Bengaluru\,  Karnataka 560068
SUMMARY:UX Design Kickstarter Workshop
DESCRIPTION:An offline workshop helping to learn Live as Anudeep took them 
 through the various aspects of UX design with colorful workbooks!\nhttps://
 bhiveworkspace.com/events/ux-design-kickstarter-workshop/
URL:https://bhiveworkspace.com/events/ux-design-kickstarter-workshop/
END:VEVENT
END:VCALENDAR