BEGIN:VCALENDAR
VERSION:2.0
PRODID:-//eventon.com NONSGML v1.0//EN
CALSCALE:GREGORIAN
METHOD:PUBLISH
BEGIN:VEVENT
UID:69ea3d593f2d1
DTSTAMP:20260423T154009Z
DTSTART:20220917T113000Z
DTEND:20220917T163000Z
LOCATION:BHIVE Premium HSR Campus B-Block\,  BHIVE Workspace - No.112\,  AKR Tech Park\,  "A" and\,  7th Mile Hosur Rd\,  Krishna Reddy Industrial Area\,  Bengaluru\,  Karnataka 560068
SUMMARY:Garuda BHIVE Workspace Launch
DESCRIPTION:The Grand Launch of Garuda BHIVE Workspace\,  BTM Layout in ass
 ociation with The Garuda Group. This is officially the largest coworking bu
 ilding in the country\,  with a capacity to seat over 5000.\nhttps://bhivew
 orkspace.com/events/garuda-bhive-workspace-launch/
URL:https://bhiveworkspace.com/events/garuda-bhive-workspace-launch/
END:VEVENT
END:VCALENDAR