BEGIN:VCALENDAR
VERSION:2.0
PRODID:-//eventon.com NONSGML v1.0//EN
CALSCALE:GREGORIAN
METHOD:PUBLISH
BEGIN:VEVENT
UID:69e4dc53e6bce
DTSTAMP:20260419T134451Z
DTSTART:20220723T113000Z
DTEND:20220723T163000Z
LOCATION:BHIVE Premium HSR Campus B-Block\,  BHIVE Workspace - No.112\,  AKR Tech Park\,  "A" and\,  7th Mile Hosur Rd\,  Krishna Reddy Industrial Area\,  Bengaluru\,  Karnataka 560068
SUMMARY:All About Funding with HeadStart
DESCRIPTION:e\nhttps://bhiveworkspace.com/events/all-about-funding-with-hea
 dstart/
URL:https://bhiveworkspace.com/events/all-about-funding-with-headstart/
END:VEVENT
END:VCALENDAR